Workbook
Name 施設n: #REF!
Name 施設n: #REF!
Name 施設n: #REF!
Name 選択２: [3]基礎!$C$4:$C$5
Name 選択５: [3]基礎!$F$4:$F$5
Name 選択６: [3]基礎!$G$4:$G$6
Name 選択８: [3]基礎!$I$4:$I$8

Sheet 表紙
A1: 令和８年度 指導監査事前提出資料
AP2: 記入日：令和 | AS2: 年 | AV2: 月 | AY2: 日
D3: 相模原市指導監査基準 軽費老人ホーム(ケアハウス)編対応
D6: 法人名
D7: 施設名 | AO7: 定員 | AY7: 名
D8: 所在地 | J8: 〒
D9: 電話 | AB9: Ｅ-mail
D10: 施設長氏名 | AB10: 記入者氏名
C12: ＜提出方法及び提出書類＞
D13: 提出方法 | I13: 提出書類 | Q13: 備考
D14: 電子メール、郵送又は窓口へ持参 | I14: 事前提出資料 | Q14: 自主点検記入欄に必要事項を記入してください。特に指定のない場合は前年度の実績、直近の状況については指導監査実施月の２月前の状況を記入してください。 ※「結果」の欄は、記入しないでください。
Q15: 記入方法 | S15: 水色のセル | X15: 計算式が入力されているため、自動表示されます。
S16: 桃色のセル | X16: セル選択時に右側に表示される「▼」をクリックし、選択肢の中から該当するものを選んでください。
S17: □（チェックボックス） | X17: □に☑の印を付けてください。
I18: 添付書類 | J18: 施設管理監査事項９、１３ | Q18: 職員の指導監査実施月の２月前の月の勤務状況がわかるもの（勤務シフト表等）
J19: 施設管理点検資料 | Q19: 施設管理点検資料１（軽費老人ホーム(ケアハウス)の１日当たりの一般入所者数） 施設管理点検資料２（従業者の勤務の体制及び勤務形態一覧表）
J20: 職員処遇 | Q20: 職員点検資料１（給料表を適用する職員の給与等の状況） 職員点検資料２（給料表を適用しない職員の給与等の状況）
J21: 会計 | Q21: 会計点検資料（契約の状況） 決算書自己点検シート（決算書と付属明細書等の整合性チェック等を独自システム等で行っている場合はその結果）
D22: 郵送又は窓口へ持参 | I22: 計算書類等 | Q22: 会計「計算書類等提出確認表」の確認欄で「有」と選択したもの（令和６年度決算分）
I23: 計算書類等提出確認表 | Q23: 確認欄を記入し、計算書類等と一緒に提出してください。
D24: ※送付先⇒ | I24: 郵送の場合：〒252-5277相模原市役所福祉基盤課指導監査室あて（住所記載不要）
I25: 電子メールの場合：fukushi-kiban@city.sagamihara.kanagawa.jp（福祉基盤課指導監査室あて）

Sheet 施設管理
E1: 施設名 | M1: =IF(表紙!J7="","",表紙!J7)
E2: ※施設名は自動表示されます。
A4: 令和８年度 指導監査事前提出資料 相模原市指導監査基準 軽費老人ホーム(ケアハウス)編対応 ～ 施 設 管 理 ～
A7: ※ 別シート「施設管理点検資料１(ケアハウスの1日当たりの一般入所者数)」及び「施設管理点検資料２(従業者の勤務の体制及び勤務形態一覧表)」も記入の 上、提出してください。 ※ 指導監査実施月の２月前の月の勤務シフト表をご提出ください。
A8: 項 目 | B8: 監査事項 | D8: 監査内容 | E8: 自主点検記入欄 | AA8: ※結果 | AE8: 市使用欄（※施設の方は、この枠内を変更しないでください。）
A9: １ 職員配置 （１）職員数
C10: ※軽費老人ホーム(ケアハウス)の定員等について、右の欄に記入してください。 | F10: 定員 | Q10: =表紙!AS7 -> 0 | T10: 人 | AE10: いる ・ いない | AF10: いない ・ いる | AG10: いる ・ いない ・ 該当なし | AH10: ある ・ ない | AI10: ない ・ ある | AJ10: 有 ・ 無 | AK10: 有 ・ 無 ・ 該当なし | AL10: 実施 ・ 実施なし | AM10: 実施 ・ 実施なし ・ 該当なし
F11: 単独・他の社会福祉施設と併設 | R11: 単独 | V11: 併設 | AE11: いる | AF11: いない | AG11: いる | AH11: ある | AI11: ない | AJ11: 有 | AK11: 有 | AL11: 実施 | AM11: 実施 | AN11: 就 | AO11: 就 | AP11: 〇
F12: 特定施設入居者生活介護の指定 | R12: 無 | V12: 有 | AE12: いない | AF12: いる | AG12: いない | AH12: ない | AI12: ある | AJ12: 無 | AK12: 無 | AL12: 実施なし | AM12: 実施なし | AN12: 給 | AO12: 育介
F13: 居室のタイプ | R13: 従来型 | V13: ユニット型 | AG13: 該当なし | AK13: 該当なし | AM13: 該当なし | AN13: 退
AN14: 他
B16: 1 | C16: 常勤の施設長が１人いること。 | D16: 施設長は常勤であり、かつ、原則として専ら当該軽費老人ホームの管理業務に従事すること。 ただし、以下の場合であって、当該事業所の管理業務に支障がないときは、他の職務を兼ねることができるものとする。 (１)当該軽費老人ホームの従業者としての職務に従事する場合 (２)同一の事業者によって設置された他の事業所、施設等の施設長又は従業者としての職務に従事する場合であって、当該他の事業所、施設等の施設長又は従業者としての職務に従事する時間帯も、当該軽費老人ホームの入所者へのサービス提供の場面等で生じる事象を適時かつ適切に把握でき、職員及び業務の一元的な管理・指揮命令に支障が生じない（※）ときに、当該他の事業所、施設等の施設長 又は従事者としての職務に従事する場合 ※管理すべき事業所数が過剰であると個別に判断される場合、併設される入所施設において入所者に対しサービス提供を行う看護・介護職員と兼務する場合、事故発生時等の緊急時において施設長自身が速やかに当該軽費老人ホームに駆け付けることができない体制となっている場合などは、管理業務に支障があると考えられる。 | F16: ◎いずれかを選択→ | M16: いる ・ いない | AA16: 適・否 （ ）
D30: 【常勤】 基準「施設管理」監査事項１を参照してください。（以降の監査事項においても同じ）
B35: 2 | C35: 生活相談員を必要数配置していること。 また、生活相談員を置く場合１人以上は、常勤の者であること。 | D35: 生活相談員が入所者の数が１２０又はその端数を増すごとに１人以上いること。 ただし、指定特定施設入居者生活介護(指定居宅サービス基準省令第１７４条第１項に規定する指定特定施設入居者生活介護をいう。以下同じ。)、指定介護予防特定施設入居者生活介護(指定予防サービス基準省令第２３０条第１項に規定する指定介護予防特定施設入居者生活介護をいう。以下同じ。)又は指定地域密着型特定施設入居者生活介護(指定地域密着型サービス基準省令第１０９条第１項に規定する指定地域密着型特定施設入居者生活介護をいう。以下同じ。)を行う軽費老人ホームにあっては、入所者に提供するサービスに支障がないときは、生活相談員のうち１人を置かないことができる。 生活相談員を置く場合にあっては、当該生活相談員のうち１人以上は、常勤の者であること。 | F35: ◎いずれかを選択→ | M35: いる ・ いない | AA35: 適・否 （ ）
F38: ◆生活相談員の配置状況（直近月）
F40: 必要数 | I40: 配置数 | L40: 常勤職員
H41: 人 | K41: 人 | L41: いる ・ いない
F43: ◆生活相談員のうち１人を置かないことができる要件
F44: （生活相談員を配置している場合、以下の記入は不要です。）
F46: 特定施設入居者生活介護等の指定 | R46: 有 ・ 無
F48: 提供するサービスに支障 | R48: 有 ・ 無
B53: 3 | C53: 介護職員を必要数配置していること。 また、介護職員を置く場合１人以上は、常勤の者であること。 | D53: 介護職員の総数は次のとおりとなっていること。 （１）一般入所者(入所者であって、指定特定施設入居者生活介護、指定介護予防特定施設入居者生活介護又は指定地域密着型特定施設入居者生活介護の提供を受けていない者をいう。以下同じ。)の数が３０以下の軽費老人ホームにあっては、常勤換算方法で、１以上 （２）一般入所者の数が３０を超えて８０以下の軽費老人ホームにあっては、常勤換算方法で、２以上 （３）一般入所者の数が８０を超える軽費老人ホームにあっては、常勤換算方法で、２に実情に応じた適当数（常勤換算方法で１以上）を加えて得た数 介護職員のうち１人以上は、常勤の者であること。ただし、入所者の身体機能の状況、併設する社会福祉施設等との連携、介護保険サービス等の活用その他の方法により当該軽費老人ホームの効果的な運営を期待することができる場合であって、入所者に提供するサービスに支障がないときは、あらかじめ入所者の全員の同意を得て、介護職員のうち１人を置かないことができるものとする。この場合、あらかじめ、介護職員のうち１人を置かないこととすることに伴う職員配置状況やサービスの内容等について十分に説明を行い、全ての入所者から同意を得ることが必要である。 なお、同意については、入所者及び軽費老人ホーム双方の保護の立場から書面によって確認すること。 また、介護職員のうち１人を置かないこととした後に入所する者については、入所契約に当たり、あらかじめ、当該サービスの内容、職員配置状況について十分に説明を行い、同意を得ることが必要である。 | F53: ◎いずれかを選択→ | M53: いる ・ いない | AA53: 適・否 （ ）
F56: ◆一般入所者数と介護職員の配置状況
F58: 一般入所者数
J59: 人
F60: (別シート「１日当たりの一般入所者数」の入所者数を記入してください。)
F62: 必要数 | I62: 配置数
H63: 人 | K63: 人 | L63: (常勤換算方法で算出した結果を記入してください。)
F64: (指導監査実施月の２月前の配置数)
F66: 介護職員のうち１人以上の常勤の者の配置 | R66: 有 ・ 無
F69: ◆介護職員のうち１人を置かないことができる要件
F70: （介護職員を配置している場合、以下の記入は不要です。）
G72: 効果的な運営 | P72: 適 ・ 否
F74: ※軽費老人ホームの効果的な運営を期待することができる理由
D81: 【常勤換算方法】 基準「施設管理」監査事項３を参照してください。（以降の監査事項においても同じ）
G82: 提供するサービスに支障 | P82: 有 ・ 無
G84: 入所者全員からの同意 | P84: 有 ・ 無
G86: 書面によって確認 | P86: 有 ・ 無
G88: 未配置決定後に入所した者への同意 | P88: 有 ・ 無
B94: 4 | C94: 生活相談員又は介護職員については、いずれか１人を配置していること。 | D94: 監査事項２及び３にかかわらず、生活相談員又は介護職員については、いずれか１人を置かなければならない。 | F94: ◎いずれかを選択→ | M94: いる ・ いない | AA94: 適・否 （ ）
...

Sheet 施設管理点検資料１
A1: 軽費老人ホーム(ケアハウス)の1日当たりの一般入所者数
A2: 施設名 | B2: =IF(表紙!J7="","",表紙!J7)
A4: ・施設の状況に応じて、以下の４つの表のいずれかに記入し、１日当たりの入所者数又は推定数を記入してください。
A5: ・１日当たり入所者数は、計算期間中の１日当たりの平均入所者数（当該計算期間の全入所者の延数÷当該計算期間の日数）です。
A6: ・推定数は事業実績が６月未満の場合、定員の９０％で算出したものです。
A7: （注１）退所、入院又は外泊により介護保険の報酬をまったく算定しなかった日は除いてください。
A8: （注２）計算については、小数点第２位以下を切上げしてください。
F9: 定員数 | H9: =表紙!AS7 -> 0 | I9: 人
A10: １ 前年度の実績
A11: 昨年４月～ 今年３月 | B11: 昨年 | K11: 今年 | N11: 日 数 | O11: １日当たり
B12: ４月 | C12: ５月 | D12: ６月 | E12: ７月 | F12: ８月 | G12: ９月 | H12: １０月 | I12: １１月 | J12: １２月 | K12: １月 | L12: ２月 | M12: ３月 | O12: 入所者数
N13: 365
A15: ２ 新設又は定員増の場合【新設又は定員増の時点から１年以上経過している場合】
A16: 直近月までの １２月分の実績 | B16: 年 | N16: 日 数 | O16: １日当たり
B17: 月 | C17: 月 | D17: 月 | E17: 月 | F17: 月 | G17: 月 | H17: 月 | I17: 月 | J17: 月 | K17: 月 | L17: 月 | M17: 月 | O17: 入所者数
A20: ３ 新設又は定員増の場合【新設又は定員増の時点から６月以上１年未満の場合】
A21: 直近月までの ６月分の実績 | B21: 年 | H21: 日 数 | I21: １日当たり
B22: 月 | C22: 月 | D22: 月 | E22: 月 | F22: 月 | G22: 月 | I22: 入所者数
A25: ４ 新設又は定員増の場合【新設又は定員増の時点から６月未満の場合】 ⇒ 定員の９０％を記入してください。
A26: 定員 | B26: 推定数
A29: ５ 定員減の場合（定員減の実績が３月以上ある時）
A30: 定員減少後 直近月までの実績 | B30: 年 | N30: 日 数 | O30: １日当たり
B31: 月 | C31: 月 | D31: 月 | E31: 月 | F31: 月 | G31: 月 | H31: 月 | I31: 月 | J31: 月 | K31: 月 | L31: 月 | M31: 月 | O31: 入所者数

Sheet 施設管理点検資料２
A2: 従業者の勤務の体制及び勤務形態一覧表 | K2: （ | M2: 年 | O2: 月分）※指導監査実施月の２月前の月
A3: (軽費老人ホーム(ケアハウス)用) | R3: 施設名（ | U3: =IF(表紙!J7="","",表紙!J7) | AK3: ）
A5: 職 種 | B5: 勤務 | C5: 資 格 | D5: 氏 名 | E5: 1 | F5: 2 | G5: 3 | H5: 4 | I5: 5 | J5: 6 | K5: 7 | L5: 8 | M5: 9 | N5: 10 | O5: 11 | P5: 12 | Q5: 13 | R5: 14 | S5: 15 | T5: 16 | U5: 17 | V5: 18 | W5: 19 | X5: 20 | Y5: 21 | Z5: 22 | AA5: 23 | AB5: 24 | AC5: 25 | AD5: 26 | AE5: 27 | AF5: 28 | AG5: 29 | AH5: 30 | AI5: 31 | AJ5: この月の | AK5: 常勤換算後の人数
B6: 形態 | AJ6: 合計
A7: 施設長
A9: 生活相談員
A14: 生活相談員 計
A16: ＜記載上の注意事項＞
A17: 各職種ごとに、日付に対応する欄には勤務した時間数（実績）を記入してください。
A18: 兼務している職員については、勤務時間を各職種で按分し、当該職種に従事した時間数を記入してください。
A19: 勤務形態は、Ａ～Ｄで記入してください。 Ａ：常勤専従 Ｂ：常勤兼務 Ｃ：非常勤専従 Ｄ：非常勤兼務
A20: 夜勤等については、網掛けをして表示してください。
A22: 計算はすべて小数点第２位以下を切り捨てです。
A24: 常勤職員が勤務すべき１週あたりの勤務日数、勤務時間 | L24: 日 | M24: (a) | O24: 週 | R24: 時間 | T24: (b)
A26: 常勤職員が勤務すべき１日あたりの勤務時間 | J26: 時間 | L26: （c）
A28: この月に常勤職員が通常勤務すべき日数 | H28: 日 （d）
A29: 常勤職員の勤務すべき曜日が同じ場合 当該月の常勤職員が勤務すべき曜日を足し上げた日数
A30: 常勤職員によって勤務すべき曜日が異なる場合の常勤職員が通常勤務すべき日数の計算方法 （a）×4＋｛（月の日数-28）×（a）÷7 ｝
A32: 常勤職員の１月間における勤務すべき時間数 | G32: （c）×（d） | N32: 時間 | P32: (e)
A34: ●常勤換算…常勤専従職員の人数＋（常勤・非常勤兼務職員の当該職種の勤務時間数＋非常勤専従職員の勤務時間数）÷常勤職員の１月間における勤務すべき時間数(e)
A37: 従業者の勤務の体制及び勤務形態一覧表(軽費老人ホーム(ケアハウス)用) | U37: （ | W37: 年 | Y37: 月分）
R38: 施設名（ | U38: =IF(表紙!J7="","",表紙!J7) | AK38: ）
A40: 職 種 | B40: 勤務 | C40: 資 格 | D40: 氏 名 | E40: 1 | F40: 2 | G40: 3 | H40: 4 | I40: 5 | J40: 6 | K40: 7 | L40: 8 | M40: 9 | N40: 10 | O40: 11 | P40: 12 | Q40: 13 | R40: 14 | S40: 15 | T40: 16 | U40: 17 | V40: 18 | W40: 19 | X40: 20 | Y40: 21 | Z40: 22 | AA40: 23 | AB40: 24 | AC40: 25 | AD40: 26 | AE40: 27 | AF40: 28 | AG40: 29 | AH40: 30 | AI40: 31 | AJ40: この月の | AK40: 常勤換算後の人数
B41: 形態 | AJ41: 合計
A42: 栄養士
A46: 栄養士 計
A47: 調理員
A50: 調理員 計
A51: 介護職員
A67: 介護職員 計

Sheet 職員処遇
E1: 施設名 | M1: =IF([4]表紙!H5="","",[4]表紙!H5)
E2: ※施設名は自動表示されます。
A5: 令和８年度 指導監査事前提出資料 相模原市指導監査基準対応（社会福祉施設共通） ～ 職 員 処 遇 ～
A7: ※ 別シート「職員点検資料１」(給料表を適用する職員の給与等の状況)、「職員点検資料２」(給料表を適用しない職員の給与等の状況) も記入の上、提出してください。
A8: 項 目 | B8: 監査事項 | D8: 監査内容 | E8: 自主点検記入欄 | Y8: ※結果 | AC8: 市使用欄（※施設の方は、この枠内を変更しないでください。）
A10: １ 就業規則 （１）就業規則の整備 | B10: 1 | C10: 作成、変更した就業規則(給与規程、育児休業・介護休業規則等を含む。以下同じ。)は、労働基準監督署に届け出ていること。 | D10: 常時１０人以上の労働者を使用する使用者は就業規則を作成し、労働組合又は労働者を代表する者の意見書を添えて、労働基準監督署に届け出ていること。変更届についても同様であること。 | F10: ◎いずれかを選択→ | M10: いる ・ いない | Y10: 適・否 （ ） | AC10: いる ・ いない | AD10: いない ・ いる | AE10: いる ・ いない ・ 該当なし | AF10: ある ・ ない | AG10: ない ・ ある | AH10: 有 ・ 無 | AI10: 有 ・ 無 ・ 該当なし | AJ10: 実施 ・ 実施なし | AK10: 実施 ・ 実施なし ・ 該当なし | AO10: 適 ・ 否
AC11: いる | AD11: いない | AE11: いる | AF11: ある | AG11: ない | AH11: 有 | AI11: 有 | AJ11: 実施 | AK11: 実施 | AL11: 就 | AM11: 就 | AO11: 適
AC12: いない | AD12: いる | AE12: いない | AF12: ない | AG12: ある | AH12: 無 | AI12: 無 | AJ12: 実施なし | AK12: 実施なし | AL12: 給 | AM12: 育介 | AO12: 否
F13: ◆主な規則の改正状況及び労働基準監督署への届出状況 | AE13: 該当なし | AI13: 該当なし | AK13: 該当なし | AL13: 退
AL14: 他
F15: 規則の種類 | K15: 改定日(直近） | T15: 労働基準監督署への届出 | AL15: 就・給・退・他
F17: 就業規則 | M17: 年 | P17: 月 | S17: 日
F18: 給与規程 | M18: 年 | P18: 月 | S18: 日
F19: 育児休業・介護休業規則 | M19: 年 | P19: 月 | S19: 日
B21: 2 | C21: 就業規則に必ず記載しなければならない事項を記載していること。 | D21: １ 必ず記載しなければならない事項 （１）始業及び終業の時刻、休憩時間、休日、休暇並びに労働者を２組以上に分けて交替に就業させる場合は就業時転換に関する事項 （２）賃金(臨時の賃金等を除く。)の決定、計算及び支払の方法、賃金の締切り及び支払の時期並びに昇給に関する事項 （３）退職に関する事項(解雇の事由及び６５歳までの雇用確保措置を含む。) ２ 定める場合は必ず記載しなければならない事項 （１）退職手当が適用される労働者の範囲、退職手当の決定、計算及び支払方法並びに退職手当の支払の時期に関する事項 （２）臨時の賃金等(退職手当を除く。)及び最低賃金額に関する事項 （３）労働者に食費、作業用品その他の負担をさせることに関する事項 （４）安全及び衛生に関する事項 （５）職業訓練に関する事項 （６）災害補償及び業務外の傷病扶助に関する事項 （７）表彰及び制裁の種類及び程度に関する事項 （８）その他、事業場の労働者すべてに適用される事項 | F21: ◎いずれかを選択→ | M21: いる ・ いない | Y21: 適・否 （ ）
F24: ◆規定の状況
F25: (該当条の欄は、該当する条番号をすべて記入してください。)
F26: ※選択肢 | J26: 就…就業規則 | P26: 退…退職金規程
J27: 給…給与規程 | P27: 他…その他個別規程
F29: １ 絶対的必要記載事項 | Q29: 規定※ | T29: 該当条
F30: （1） | G30: 始業及び終業の時刻・休憩時間 | W30: 条
G31: 休日 | W31: 条
G32: 休暇 | W32: 条
G33: 就業時転換(該当する場合) | W33: 条
F34: （2） | G34: 賃金の決定 | W34: 条
G35: 計算・支払方法 | W35: 条
G36: 賃金の締切・支払の時期 | W36: 条
G37: 昇給 | W37: 条
F38: （3） | G38: 退職 | W38: 条
G39: 解雇の事由 | W39: 条
G40: ６５歳までの雇用確保措置 | W40: 条
F42: ２ 相対的必要記載事項 | Q42: 規定※ | T42: 該当条
F43: （1） | G43: 退職手当 | W43: 条
F44: （2） | G44: 臨時の賃金等・最低賃金額 | W44: 条
F45: （3） | G45: 費用負担 | W45: 条
F46: （4） | G46: 安全・衛生 | W46: 条
F47: （5） | G47: 職業訓練 | W47: 条
F48: （6） | G48: 災害補償・業務外傷病扶助 | W48: 条
F49: （7） | G49: 表彰・制裁 | W49: 条
F50: （8） | G50: その他、労働者すべてに適用される事項 | Q50: 有 ・ 無
...

Sheet 職員点検資料１
E1: １ 給料表を適用する職員の給与等の状況 | I1: （ 年 月１日現在） | R1: 職員点検資料１
E2: ※指導監査実施月の２月前の１日現在の職員すべてについて記入してください。 例）指導監査実施月が７月 ⇒ ５月１日現在
A3: 相模原市 使用欄 | E3: № | F3: 氏名 | G3: 職種 | H3: 従事する職務に 係る資格の名称 | I3: 深夜 業務 従事 | J3: 採用年月日 | K3: 社会福祉事業従事年数 | L3: 前年度の４月の給与の状況 （年度途中の採用職員は採用時の状況） | P3: 今年度の４月の給与の状況 （年度途中の採用職員は採用時の状況） | T3: 社会保険加入状況 | X3: 備考 （育休、退職、異動、事由発生日等）
A4: 雇契 | B4: 雇健 | C4: 健前 | D4: 健今 | L4: 等級 号 | N4: 基本給の額 | P4: 等級 号 | R4: 基本給の額 | T4: 健康保険 | U4: 厚生年金 | V4: 雇用保険 | W4: 労災保険
E6: 例 | F6: 相模 太郎 | G6: 管理者 | H6: 保育士 | I6: 無 | J6: 32964 | K6: 32 | L6: 4-10 | N6: 350000 | O6: 円 | P6: 4-15 | R6: 355000 | S6: 円 | T6: ○ | U6: ○ | V6: ○ | W6: ○ | X6: 育休 R5.4.1
E7: 1 | O7: 円 | S7: 円
E8: 2 | O8: 円 | S8: 円
E9: 3 | O9: 円 | S9: 円
E10: 4 | O10: 円 | S10: 円
E11: 5 | O11: 円 | S11: 円
E12: 6 | O12: 円 | S12: 円
E13: 7 | O13: 円 | S13: 円
E14: 8 | O14: 円 | S14: 円
E15: 9 | O15: 円 | S15: 円
E16: 10 | O16: 円 | S16: 円
E17: 11 | O17: 円 | S17: 円
E18: 12 | O18: 円 | S18: 円
... E56: 50 | O56: 円 | S56: 円

Sheet 職員点検資料２
E1: ２ 給料表を適用しない職員の給与等の状況 | I1: （ 年 月１日現在） | S1: 職員点検資料２
E2: ※指導監査実施月の２月前の１日現在の職員すべてについて記入してください。 例）指導監査実施月が７月 ⇒ ５月１日現在
A3: 相模原市 使用欄 | E3: № | F3: 氏名 | G3: 職種 | H3: 従事する職務に 係る資格の名称 | I3: 深夜 業務 従事 | J3: 採用年月日 | K3: 契約期間 （定めなし・定めありから選択） | L3: 社会福祉事業従事年数 | M3: 勤務の状況 | U3: 社会保険加入状況 | Y3: 備考 （育休、退職、異動、事由発生日等）
A4: 雇契 | B4: 雇健 | C4: 健前 | D4: 健今 | M4: １週間の 勤務日数 | O4: １週間の 勤務時間 | Q4: 給与の額 （左欄は時給・日給・月給・年俸から選択） | U4: 健康保険 | V4: 厚生年金 | W4: 雇用保険 | X4: 労災保険
E6: 例 | F6: 相模 太郎 | G6: 調理員 | H6: 調理師 | I6: 無 | J6: 40269 | K6: 定めなし | L6: 12 | M6: 2 | N6: 日 | O6: 16 | P6: 時間 | Q6: 時給 | S6: 1200 | T6: 円 | X6: ○ | Y6: 退職 R5.4.1
E7: 1 | N7: 日 | P7: 時間 | T7: 円
E8: 2 | N8: 日 | P8: 時間 | T8: 円
E9: 3 | N9: 日 | P9: 時間 | T9: 円
E10: 4 | N10: 日 | P10: 時間 | T10: 円
E11: 5 | N11: 日 | P11: 時間 | T11: 円
E12: 6 | N12: 日 | P12: 時間 | T12: 円
E13: 7 | N13: 日 | P13: 時間 | T13: 円
E14: 8 | N14: 日 | P14: 時間 | T14: 円
E15: 9 | N15: 日 | P15: 時間 | T15: 円
E16: 10 | N16: 日 | P16: 時間 | T16: 円
E17: 11 | N17: 日 | P17: 時間 | T17: 円
E18: 12 | N18: 日 | P18: 時間 | T18: 円
... E56: 50 | N56: 日 | P56: 時間 | T56: 円

Sheet 利用者処遇
E1: 施設名 | M1: =IF(表紙!J7="","",表紙!J7)
E2: ※施設名は自動表示されます。
A4: 令和８年度 指導監査事前提出資料 相模原市指導監査基準 軽費老人ホーム(ケアハウス)編対応 ～ 利 用 者 処 遇 ～
A8: 項 目 | B8: 監査事項 | D8: 監査内容 | E8: 自主点検記入欄 | AA8: ※結果
AE9: いる ・ いない
A10: １ 基本方針 | B10: 1 | C10: 食事の提供、入浴等の準備、相談及び援助、社会生活上の便宜の供与その他の日常生活上必要な便宜を提供することにより、入所者が安心して生き生きと明るく生活できるようにすることを目指していること。 | F10: ◎いずれかを選択→ | M10: いる ・ いない | AA10: 適・否 （ ） | AE10: いる
AE11: いない
B19: 2 | C19: 入所者の意思及び人格を尊重し、常にその者の立場に立ってサービスの提供を行うように努めていること。 | F19: ◎いずれかを選択→ | M19: いる ・ いない | AA19: 適・否 （ ）
B25: 3 | C25: 地域や家庭との結び付きを重視した運営を行い、社会福祉事業に関する熱意及び能力を有する職員による適切なサービスの提供に努めるとともに、市町村（特別区を含む。以下同じ。）、地域包括支援センター(介護保険法第１１５条の４６第１項に規定する地域包括支援センターをいう。以下同じ。)、老人の福祉を増進することを目的とする事業を行う者その他の保健医療サービス又は福祉サービスを提供する者との密接な連携に努めていること。 | F25: ◎いずれかを選択→ | M25: いる ・ いない | AA25: 適・否 （ ）
A45: ２ 入所申込者等に対する説明等 | B45: 4 | C45: サービスの提供の開始に際しては、あらかじめ、入所申込者又はその家族に対し、運営規程の概要、職員の勤務の体制その他の入所申込者のサービスの選択に資すると認められる重要事項を記した文書を交付して説明を行い、当該サービスの提供に関する契約を文書により締結していること。 | D45: 入所者に対し適切なサービスを提供するため、その提供の開始に際し、あらかじめ、入所申込者又はその家族に対し、運営規程の概要、職員の勤務体制、事故発生時の対応、苦情処理の体制、提供するサービスの第三者評価の実施状況（実施の有無、実施した直近の年月日、実施した評価機関の名称、評価結果の開示状況）等の入所申込者がサービスを選択するために必要な重要事項について、わかりやすい説明書やパンフレット等の文書を交付して懇切丁寧に説明を行い、当該施設からサービスを受けることにつき同意を得なければならない。なお、同意については、入所者及び軽費老人ホーム双方の保護の立場から書面によって確認することが望ましい。 契約文書には次に掲げる事項を記載していること。 (１)当該社会福祉事業の経営者の名称及び主たる事務所の所在地 (２)当該社会福祉事業の経営者が提供する福祉サービスの内容 (３)当該福祉サービスの提供につき利用者が支払うべき額に関する事項 (４)当該福祉サービスの提供開始年月日 (５)当該福祉サービスに係る苦情を受け付けるための窓口 ※文書の交付に代えて、当該入所申込者又はその家族の承諾を得て、当該文書に記すべき重要事項を電子情報処理組織を使用する方法その他の情報通信の技術を利用する方法であって、軽費老人ホーム基準省令第１２条に掲げるもの(以下「電磁的方法」という。)により提供することができる。 この場合において、当該軽費老人ホームは、当該文書を交付したものとみなす。 | F45: ◎いずれかを選択→ | M45: いる ・ いない | AA45: 適・否 （ ）
F48: ◆契約書、重要事項説明書の作成、交付状況
L49: 入所者数 | Q49: 交付
F50: 前年度 | P50: 人 | U50: 人
F51: 今年度 | P51: 人 | U51: 人
F53: ◆契約書の記載状況
F54: 記載事項 | W54: 記載
F55: (１)当該社会福祉事業の経営者の名称及び主たる事務所の所在地 | W55: 有・無
F57: (２)当該社会福祉事業の経営者が提供する福祉サービスの内容 | W57: 有・無 | AE57: 有 ・ 無
AE58: 有
F59: (３)当該福祉サービスの提供につき利用者が支払うべき額に関する事項 | W59: 有・無 | AE59: 無
F61: (４)当該福祉サービスの提供開始年月日 | W61: 有・無
F62: (５)当該福祉サービスに係る苦情を受け付けるための窓口 | W62: 有・無
B77: 5 | C77: 前監査事項の契約において、入所者の権利を不当に狭めるような契約解除の条件を定めていないこと。 | D77: 契約書に定める軽費老人ホーム設置者の契約解除の条件は、信頼関係を著しく害する場合に限るなど入所者の権利を不当に狭めるものとなっていないこと。 また、入所者、軽費老人ホーム設置者双方の契約解除条項を契約書上定めておくこと。 | F77: ◎いずれかを選択→ | M77: いる ・ いない | AA77: 適・否 （ ）
A86: ３ 利用料の受領 | B86: 6 | C86: 入所者から支払いを受ける利用料は、適正であること。 | D86: 軽費老人ホームは、入所者から利用料として、次に掲げる費用の支払を受けることができる。 (１)サービスの提供に要する費用（入所者の所得の状況その他の事情を勘案して徴収すべき費用として市長が定める額に限る。） (２)生活費（食材料費及び共用部分に係る光熱水費に限る。） (３)居住に要する費用（(２)の光熱水費及び(４)の費用を除く。） (４)居室に係る光熱水費 (５)入所者が選定する特別なサービスの提供を行ったことに伴い必要となる費用 (６)上記（１）～（５）に掲げるもののほか、軽費老人ホームにおいて提供される便宜のうち日常生活においても通常必要となるものに係る費用であって、入所者に負担させることが適当と認められるもの なお、(２)の生活費は、地域の実情、物価の変動その他の事情を勘案して市長が定める額を上限としていること。 | F86: ◎いずれかを選択→ | M86: である・でない | AA86: 適・否 （ ） | AE86: である・でない
AE87: である
AE88: でない
F89: ※請求書により利用料の徴収状況を確認しますので、直近月の請求書を当日ご用意ください。
B105: 7 | C105: 利用料として支払いを受ける費用の額に係るサービスの提供に当たっては、あらかじめ、入所者又はその家族に対し、当該サービスの内容及び費用を記した文書を交付して説明を行い、入所者の同意を得ていること。 | F105: ◎いずれかを選択→ | M105: いる ・ いない | AA105: 適・否 （ ）
F108: ◆同意の状況
F109: 同意を得ている者 | N109: 人
A115: ４ 対象者 | B115: 8 | C115: 当該軽費老人ホームの入所者が要件を満たしていること。 | D115: 軽費老人ホームの入所者は、次の要件を満たす者であること。 (１)身体機能の低下等により自立した日常生活を営むことについて不安があると認められる者(自炊ができない程度の身体機能の低下等が認められ、又は高齢等のため独立して生活するには不安が認められる者)であって、家族による援助を受けることが困難なもの。 (２)６０歳以上の者。ただし、その者の配偶者、３親等内の親族及び３親等内の親族その他特別な事情により当該者と共に入所させることが必要と認められる者については、この限りでない。 | F115: ◎いずれかを選択→ | M115: いる ・ いない | AA115: 適・否 （ ）
A128: ５ 入退所等 | B128: 9 | C128: 入所予定者の入所に際しては、その者の心身の状況、生活の状況、家庭の状況等の把握に努めていること。 | D128: 日常生活の自立を図るとともに安心して生き生きと明るく生活を送るためにどのような支援が必要であるかについて判断するため、その者の心身の状況や家族等の状況、生活歴等、必要な事項について把握し、当該施設において提供することができるサービスにより生活を継続することが可能な状態かどうかを明らかにすることが重要であること。 なお、施設は、入所予定者の感染症に関する事項も含めた健康状態を確認することが必要であるが、その結果感染症や既往症であっても、一定の場合を除き、サービス提供を断る正当な理由には該当しない。 | F128: ◎いずれかを選択→ | M128: いる ・ いない | AA128: 適・否 （ ）
F131: ◆新規入所者数
F132: 前年度 | O132: =SUM(L50) -> 0 | U132: 人
F133: 今年度 | O133: =SUM(L51) -> 0 | U133: 人
F134: (指導監査対象期間について記入してください。)
B142: 10 | C142: 入所者の心身の状況、入所中に提供することができるサービスの内容等に照らし、軽費老人ホームにおいて日常生活を営むことが困難となったと認められる入所者に対し、その者及びその家族の希望を十分に勘案し、その者の状態に適合するサービスに関する情報の提供を行うとともに、適切な他のサービスを受けることができるよう必要な援助に努めていること。 | D142: 「入所中に提供することができるサービスの内容等」は、当該施設において提供されるサービス(特定施設入居者生活介護(介護予防特定施設入居者生活介護も含む。以下同じ。)の指定を受けている場合にはこれを含む。)の他、当該施設に入所しながら受けることができる訪問介護等の居宅サービスその他の保健医療サービス又は福祉サービス等の各種サービスを含むものであること。 入所者が入所しながら受けることができる各種サービスを総合的に判断した上で、日常生活を営むことが困難であると認められる状態となった場合には、本人又はその家族との話し合いの場を設けること等により、施設において提供できるサービスとその者の状態に関する説明を行うとともに、その者の状態に適合するサービスにつなげるための情報提供等の必要な援助に努めること。 なお、この話し合いに当たっては、入所者及びその家族の希望を十分に勘案しなければならず、安易に施設側の理由により退所を促すことのないよう留意すること。 | F142: ◎いずれかを選択→ | M142: いる ・ いない | AA142: 適・否 （ ）
F145: ※援助の内容を具体的に記入してください。
B165: 11 | C165: 入所者の退所に際しては、居宅サービス計画(介護保険法第８条第２４項に規定する居宅サービス計画をいう。以下同じ。)又は施設サービス計画(同条第２６項に規定する施設サービス計画をいう。以下同じ。)の作成等の援助に資するため、居宅介護支援事業者(同条第２４項に規定する居宅介護支援事業を行う者をいう。)又は介護保険施設(同条第２５項に規定する介護保険施設をいう。)に対する情報の提供に努めるほか、その他地域包括支援センター又は保健医療サービス若しくは福祉サービスを提供する者との密接な連携に努めていること。 | D165: 入所者の退所を円滑に行うとともに、退所先においてその者の心身の状況等に応じた適切なサービスを受けることができるよう、主として生活相談員が中心となって、主冶の医師、居宅介護支援事業者や地域包括支援センターをはじめ、保健医療サービスや福祉サービスを提供する者等と十分に連携を図り、継続的な支援を行う体制づくりを行うよう努めること。 | F165: ◎いずれかを選択→ | M165: いる・いない・退所者なし | AA165: 適・否 （ ） | AE165: いる・いない・退所者なし
AE166: いる
...

Sheet 会計(共通事項）
F1: 施設名 | M1: =IF([1]表紙!J5="","",[1]表紙!J5)
F2: ※施設名は自動表示されます。
A5: 令和８年度 指導監査事前提出資料 相模原市指導監査基準特別養護老人ホーム編・地域密着型特別養護老人ホーム編対応 （社会福祉施設共通） ～ 会 計 ～
A7: ※ 別シート「会計点検資料（１ 契約の状況(前年度)）」も記入の上、提出してください。 ※ この事前提出資料（社会福祉施設共通）と併せて、○○○限定事項も提出してください。 ※ 別シート「決算書自己点検シート(令和７年度決算のもの）」又は、決算書と附属明細書等の整合性チェック等を独自システム等で行っ ている場合はその結果を添付してください。
A8: 項 目 | B8: 監査事項 | D8: 監査内容 | F8: 自主点検記入欄 | AB8: ※結果 | AF8: 市使用欄（※施設の方は、この枠内を変更しないでください。）
A10: １ 経理規程等 （１）経理規程の制定 | B10: 1 | C10: 定款等に定めるところにより、経理規程を制定していること。 | D10: （１）会計基準省令に基づく適正な会計処理を行うため、法令等及び定款に定めるもののほか、会計処理を行うために必要な事項について、経理規程を定めていること。 （２）経理規程は、定款に定める手続により決定していること。 | G10: ◎いずれかを選択→ | N10: いる ・ いない | AB10: 適・否 （ ） | AF10: いる ・ いない | AG10: いない ・ いる | AH10: いる ・ いない ・ 実績なし | AI10: ない ・ ある | AJ10: 有 ・ 無 | AK10: 有 ・ 無 ・ 実績なし | AL10: 有 ・ 無 ・ 省略 | AM10: 適 ・ 否 | AN10: 該当 ・ 非該当 | AO10: ○ | AP10: 有・無・該当なし
A11: １ 会計処理 （１）会計処理の基準 | B11: 1 | C11: 拠点区分の会計処理の基準は、社会福祉法人会計基準(新会計基準)となっていること。 | D11: 拠点区分の会計処理の基準は、新会計基準となっており、法令及び関係通知等に従い適正な会計処理を行っていること。 ただし、平成２７年３月３１日までの間については、従来の会計処理の基準によることができることとなっており、この場合、以降の項目において、拠点区分と表記しているものについては、経理区分又は会計区分と読み替えるものとする。 | AF11: いる | AG11: いない | AH11: いる | AI11: ない | AJ11: 有 | AK11: 有 | AL11: 有 | AM11: 適 | AN11: 該当 | AP11: 有
A12: １ 会計処理 （１）会計処理の基準 | B12: 1 | C12: 拠点区分の会計処理の基準は、社会福祉法人会計基準(新会計基準)となっていること。 | D12: 拠点区分の会計処理の基準は、新会計基準となっており、法令及び関係通知等に従い適正な会計処理を行っていること。 ただし、平成２７年３月３１日までの間については、従来の会計処理の基準によることができることとなっており、この場合、以降の項目において、拠点区分と表記しているものについては、経理区分又は会計区分と読み替えるものとする。 | AF12: いない | AG12: いる | AH12: いない | AI12: ある | AJ12: 無 | AK12: 無 | AL12: 無 | AM12: 否 | AN12: 非該当 | AP12: 無
G13: ◆経理規程の整備状況 | AH13: 実績なし | AK13: 実績なし | AL13: 省略 | AP13: 該当なし
L14: 経理規程 | Q14: 最新の改正状況
G15: 改廃の手続 | L15: 第 | P15: 条 | S15: 年 | V15: 月 | Y15: 日
Q16: 理事会の承認 | W16: 有 ・ 無
A19: １ 会計処理 （１）会計処理の基準 | B19: 1 | C19: 拠点区分の会計処理の基準は、社会福祉法人会計基準(新会計基準)となっていること。 | D19: 拠点区分の会計処理の基準は、新会計基準となっており、法令及び関係通知等に従い適正な会計処理を行っていること。 ただし、平成２７年３月３１日までの間については、従来の会計処理の基準によることができることとなっており、この場合、以降の項目において、拠点区分と表記しているものについては、経理区分又は会計区分と読み替えるものとする。
A20: （２）経理規程等の遵守 | B20: 2 | C20: 経理規程及びその細則等を遵守していること。 | D20: ※例（全国社会福祉施設経営者協議会による「平成２９年度版社会福祉法人モデル経理規程」の参照条文） ・すべての会計処理は経理規程に定める会計伝票等により処理するとともに、会計伝票は証憑に基づいて作成し、証憑は会計記録との関係を明らかにして整理保存していること。（モデル経理規程第１３条） ・金銭の収納に際して、所定の印を押した領収書を発行していること。（モデル経理規程第２３条） ・日々入金した金銭は、これを直接支出に充てることなく、収入後経理規程に定める期間以内に金融機関に預け入れていること。（モデル経理規程第２４条） ・小口現金を適切に取り扱っていること（小口現金出納帳の作成、限度額以内の保有等）。（モデル経理規程第１２条、第２８条） ・現金及び預貯金の残高と帳簿残高を照合し、会計責任者等による確認を受けること。また、過不足が生じた場合は速やかに経理規程に定める手続を行っていること。（モデル経理規程第３０条、第３１条） ・月次試算表を作成し、毎月適切な時期に経理規程に定める権限者に提出していること。（モデル経理規程第３２条） ・債権の回収又は支払の状況を確認し、期限どおり履行されていないことが判明した場合は、速やかに経理規程に定める手続を行っていること。（モデル経理規程第３５条、第３６条） | G20: ◎いずれかを選択→ | N20: いる ・ いない | AB20: 適・否 （ ）
G23: ◆経理規程への規定の状況
M24: 経理規程 | Q24: 規程上の手続等
G25: 会計伝票等による 会計処理等 | M25: 第 | P25: 条
G27: 領収書の発行 | M27: 第 | P27: 条
G29: 直接支出禁止、金融機関へ預入れ | M29: 第 | P29: 条 | Q29: 金融機関への 預入れ期間 | X29: 日以内
G31: 小口現金の管理 | M31: 第 | P31: 条 | Q31: 保有限度額 | Z31: 円
G33: 残高の確認 | M33: 第 | P33: 条 | Q33: 確認頻度 | S33: 現金
S34: 預貯金
G35: 月次試算表 | M35: 第 | P35: 条 | Q35: 理事長への提出期限
Q36: 翌月・翌々月 | X36: 日まで
G37: 債権の回収、 債務の支払い | M37: 第 | P37: 条
A42: （３）会計帳簿 | B42: 3 | C42: 会計帳簿を適正に整備していること。 | D42: （１）経理規程に定められた会計帳簿（仕訳日記帳、総勘定元帳等）を拠点区分ごとに作成していること。 （２）会計帳簿の閉鎖の時から１０年間、その会計帳簿及びその事業に関する重要な資料を保存していること。 （３）計算書類に係る各勘定科目の金額について、主要簿（総勘定元帳等）と一致していること。 | G42: ◎いずれかを選択→ | N42: いる ・ いない | AB42: 適・否 （ ）
G45: ◆会計帳簿に関する規定の状況
O46: 経理規程
G47: 整備すべき会計帳簿 | O47: 第 | R47: 条
G48: 会計帳簿の保存期間 | O48: 第 | R48: 条
A51: ２ 管理運営体制 | B51: 4 | C51: 予算の執行及び資金等の管理に関して、会計責任者の設置等の管理運営体制を整備していること。 また、会計責任者と出納職員との兼務を避けるなど、内部牽制に配意した体制としていること。 | D51: （１）経理規程等において、予算の執行や資金等の管理に関する体制（会計責任者等の設置や内部牽制に配意した業務分担等）について、明確に定めていること。 （２）管理運営体制に関する経理規程等に定める手続を行っていること。 （３）法人印及び代表者印について、管理者が定められている等、管理が十分に行われていること。 | G51: ◎いずれかを選択→ | N51: いる ・ いない | AB51: 適・否 （ ）
G54: ◆管理運営体制の整備
K55: 規程 | O55: 担当者職名
G56: 会計責任者 等の設置 | K56: 経理規程 | O56: 統括会計 責任者 | S56: 理事長 | Y56: 設置 なし
K58: 第 | N58: 条 | O58: 会計責任者 | S58: 理事長
O59: 出納職員 | S59: 経理担当職員等
G60: 業務分担 （該当に○） | L60: 経理規程（第 条）
L61: 事務分担表
L62: その他（ ）
G63: 印の管理 | K63: 法人印 | S63: 理事長
...

Sheet 会計(限定事項)
F1: 施設名 | M1: =IF(表紙!J7="","",表紙!J7)
F2: ※施設名は自動表示されます。
A4: 令和８年度 指導監査事前提出資料 相模原市指導監査基準 軽費老人ホーム(ケアハウス)編対応 (軽費老人ホーム(ケアハウス)限定事項) ～ 会 計 ～
A8: 項 目 | B8: 監査事項 | D8: 監査内容 | F8: 自主点検記入欄 | AB8: ※結果
AF9: いない・いる・実績なし
A10: ９ 特定施設入居者生活介護に係る指定居宅サービス事業者の指定を受けた軽費老人ホームの資金の運用について (１)資金の運用について | B10: 18 | C10: 当該施設に帰属する収入を不適切な経費に充てていないこと。 | D10: 指定居宅サービス等に要する費用の額は、指定居宅サービス等に要する費用の額を主たる財源とする施設の運営に要する経費など資金の使途については、原則として制限を設けない。 ただし、特定施設入居者生活介護に係る指定居宅サービス事業者の指定を受けた軽費老人ホームは、軽費老人ホームが老人福祉法第２０条の６に規定する施設であることから、特定施設入居者生活介護に係る指定居宅サービス事業者の指定を受けた施設に帰属する収入を次に掲げる経費に充てることはできない。 (１)収益事業に要する経費 (２)当該軽費老人ホームを経営する社会福祉法人外への資金の流出(貸付を含む。)に属する経費 (３)高額な役員報酬など実質的な剰余金の配当と認められる経費 | G10: ◎いずれかを選択→ | N10: いない・いる・実績なし | AB10: 適・否 （ ） | AF10: いない
AF11: いる
AF12: 実績なし
G15: ◆繰入れ先の状況(前年度決算)
G17: 繰入れ先名称
AF27: いる・いない・実績なし
A28: (２)運用上の留意事項について (ア)資金の繰入れ | B28: 19 | C28: 資金の繰入れを適切に行っていること。 | D28: 指定居宅サービス等に要する費用の額を主たる財源とする資金の繰入れについては、健全な施設運営を確保する観点から、当該特定施設入居者生活介護に係る指定居宅サービス事業者の指定を受けた軽費老人ホームの事業活動資金収支差額に資金残高が生じ、かつ、当期資金収支差額合計に資金不足が生じない範囲内において、他の社会福祉事業等又は公益事業へ資金を繰り入れても差し支えない。 なお、当該法人が行う当該特定施設入居者生活介護に係る指定居宅サービス事業者の指定を受けた軽費老人ホーム以外の介護保険法第２３条に規定する居宅サービス等の事業への資金の繰入れについては、当期末支払資金残高に資金不足が生じない範囲内において、資金を繰り入れても差し支えない。 | G28: ◎いずれかを選択→ | N28: いる・いない・実績なし | AB28: 適・否 （ ） | AF28: いる
AF29: いない
AF30: 実績なし
G32: ◆資金の繰入れの状況(前年度決算)
G34: 事業活動資金収支差額 | N34: 当期資金収支差額合計 | U34: 当期末支払資金残高
L35: 円 | S35: 円 | Z35: 円
G38: 繰入れ先の事業名等 | U38: 繰入額
Z39: 円
Z40: 円
Z41: 円
A49: （イ）資金の積立て等 | B49: 20 | C49: 次期繰越活動収支差額に余剰が生じる場合には、安定的な経営の確保及び財務状況の透明性の確保の向上を図る観点から、事業計画を作成の上、その範囲内で将来の特定の目的のために、積立金を積み立てるよう努めていること。 | D49: 積立金は、例えば、以下のようなものが考えられる。 （1）施設整備等積立金（建物、設備及び機械器具等備品の整備・修繕、環境の改善等に要する費用、及び増改築に伴う土地取得に要する費用に係る積立金） （2）人件費積立金（人件費の類に属する経費に係る積立金） | G49: ◎いずれかを選択→ | N49: いる・いない・実績なし | AB49: 適・否 （ ）
A58: （ウ）資金の繰替使用 | B58: 21 | C58: 資金の繰替使用を適切に行っていること。 | D58: 指定居宅サービス等に要する費用の額を主たる財源とする資金を他の社会福祉事業等又は公益事業若しくは収益事業へ一時繰替使用することは、差し支えない。 ただし、当該法人が行う当該特定施設入居者生活介護に係る指定居宅サービス事業者の指定を受けた軽費老人ホーム以外の介護保険法第２３条に規定する居宅サービス等の事業へ繰替使用した場合を除き、繰替えて使用した資金は、当該年度内に補てんしなければならない。 | G58: ◎いずれかを選択→ | N58: いる・いない・実績なし | AB58: 適・否 （ ）
G61: ◆繰替使用の状況(前年度決算)
AF62: 未・済
G63: 繰替使用先 | O63: 繰替使用額 | U63: 年度内補てん | AF63: 未
T64: 円 | U64: 未・済 | AF64: 済
T65: 円 | U65: 未・済
T66: 円 | U66: 未・済
A69: （エ）役員等の報酬 | B69: 22 | C69: 役員等の報酬が、社会的批判を受けるような高額又は多額なものでないこと。 | D69: 指定居宅サービス等に要する費用の額を主たる財源とする法人役員及び評議員の報酬について、その報酬が当該社会福祉法人の収支の状況からみてあまり多額になると、実質的配当とみなされ、国民の信頼と期待を損なうおそれがある。 社会福祉法人は、きわめて公共性の高い法人であることから、このような法人に属する役員等の報酬が、社会的批判を受けるような高額又は多額なものであってはならない。 | G69: ◎いずれかを選択→ | N69: でない・である | AB69: 適・否 （ ） | AF69: でない・である
AF70: でない
AF71: である
A78: （オ）適正な会計処理 | B78: 23 | C78: 各介護保険会計年度における事業活動収支及び資金収支は、長期的かつ継続的な事業運営の確保に留意しつつ、収入、支出の均衡を図り、当該特定施設入居者生活介護に係る指定居宅サービス事業者の指定を受けた軽費老人ホームの健全な運営に必要な額以上の収支差額を生じていないこと。 | G78: ◎いずれかを選択→ | N78: いない・いる | AB78: 適・否 （ ） | AF78: いない・いる
AF79: いない
AF80: いる
A89: １０ その他 | B89: 24 | C89: 施設利用者から預かっている金銭等は、法人に係る会計とは別途管理していること。 | D89: 施設利用者から預かる金銭等は、法人に係る会計とは別途管理することとするが、この場合においても内部牽制に配意する等、個人ごとに適正な出納管理を行っていること。 なお、将来のサービス提供に係る対価の前受分として利用者から預かる金銭は法人に係る会計に含めて処理するものとする。 | G89: ◎いずれかを選択→ | N89: いる・いない | AB89: 適・否 （ ） | AF89: いる・いない
AF90: いる
AF91: いない
B97: 25 | C97: 居住に要する費用の管理を適正におこなっていること。 | D97: （１）「居住に要する費用」について、一括支払い方式、分割支払い方式、併用支払い方式のうち、利用者本人の意向に十分配慮しつつ、原則として分割支払い方式をとるよう努めていること。また、居住に要する費用については、正しく計算書に計上していること。 | G97: ◎いずれかを選択→ | N97: いる・いない | AB97: 適・否 （ ）
D103: （２）入所者が一定の期間（２０年を標準）未満の期間以内に退所した場合、一括支払い方式で支払われた「居住に要する費用」又は、併用支払い方式による一括納入金を、一定の期間(２０年を標準）から経過期間を差し引いた期間に応じ、均等払いで、退所後に利用者へ返還されていること。また返還額について、月割で算定していること。
...

Sheet 会計点検資料
A1: １ 契約の状況（前年度） | AV1: 会計点検資料１
AQ2: 施設名 | AV2: =IF(表紙!J7="","",表紙!J7)
A3: （１） 業務委託・工事等の支払い状況（５０万円（年間支払額）以上）
A4: 契約名称 | H4: 契約相手方 | N4: 契約年月日 | S4: 契約金額 | Y4: 業者選定方法※ | AB4: 指名競争入札又は 随意契約の理由 （経理規程の条番号） | AH4: 契約書 又は請書 | AK4: 固定資産への計上 | AN4: 理事会承認又は 理事長による専決 | AV4: 備考 | BE4: 市使用欄（※施設の方は、この枠内を変更しないでください。）
BF5: 有 ・ 無 | BG5: 理事会承認 ・ 専決 ・ 無
A6: 【記載例】 ○○工事 | H6: ○○株式会社 | N6: ○年○月○日 | S6: ○○○ | X6: 円 | Y6: （２） | AB6: 第○条○項○号 | AH6: 有 | AK6: 有 | AN6: 理事会承認 | AV6: ○○拠点と××拠点で按分 | BE6: （１） | BF6: 有 | BG6: 理事会承認
AN7: ○年○月○日 | BE7: （２） | BF7: 無 | BG7: 専決
X8: 円 | AB8: 第 条 項 号 | AH8: 有 ・ 無 | AK8: 有 ・ 無 | AN8: 理事会承認 ・ 専決 ・ 無 | BE8: （３） | BG8: 無
AN9: 年 月 日 | BE9: （４）
X10: 円 | AB10: 第 条 項 号 | AH10: 有 ・ 無 | AK10: 有 ・ 無 | AN10: 理事会承認 ・ 専決 ・ 無 | BE10: （５）
AN11: 年 月 日 | BE11: （６）
X12: 円 | AB12: 第 条 項 号 | AH12: 有 ・ 無 | AK12: 有 ・ 無 | AN12: 理事会承認 ・ 専決 ・ 無
AN13: 年 月 日
X14: 円 | AB14: 第 条 項 号 | AH14: 有 ・ 無 | AK14: 有 ・ 無 | AN14: 理事会承認 ・ 専決 ・ 無
AN15: 年 月 日
X16: 円 | AB16: 第 条 項 号 | AH16: 有 ・ 無 | AK16: 有 ・ 無 | AN16: 理事会承認 ・ 専決 ・ 無
AN17: 年 月 日
X18: 円 | AB18: 第 条 項 号 | AH18: 有 ・ 無 | AK18: 有 ・ 無 | AN18: 理事会承認 ・ 専決 ・ 無
AN19: 年 月 日
X20: 円 | AB20: 第 条 項 号 | AH20: 有 ・ 無 | AK20: 有 ・ 無 | AN20: 理事会承認 ・ 専決 ・ 無
AN21: 年 月 日
A23: （２） 物品等の購入状況（３０万円以上）
A24: 契約名称 | H24: 契約相手方 | N24: 契約年月日 | S24: 契約金額 | Y24: 業者選定方法※ | AB24: 指名競争入札又は 随意契約の理由 （経理規程の条番号） | AH24: 契約書 又は請書 | AK24: 固定資産への計上 | AN24: 理事会承認又は 理事長による専決 | AV24: 備考
X26: 円 | AB26: 第 条 項 号 | AH26: 有 ・ 無 | AK26: 有 ・ 無 | AN26: 理事会承認 ・ 専決 ・ 無
AN27: 年 月 日
X28: 円 | AB28: 第 条 項 号 | AH28: 有 ・ 無 | AK28: 有 ・ 無 | AN28: 理事会承認 ・ 専決 ・ 無
AN29: 年 月 日
X30: 円 | AB30: 第 条 項 号 | AH30: 有 ・ 無 | AK30: 有 ・ 無 | AN30: 理事会承認 ・ 専決 ・ 無
AN31: 年 月 日
X32: 円 | AB32: 第 条 項 号 | AH32: 有 ・ 無 | AK32: 有 ・ 無 | AN32: 理事会承認 ・ 専決 ・ 無
AN33: 年 月 日
X34: 円 | AB34: 第 条 項 号 | AH34: 有 ・ 無 | AK34: 有 ・ 無 | AN34: 理事会承認 ・ 専決 ・ 無
AN35: 年 月 日
X36: 円 | AB36: 第 条 項 号 | AH36: 有 ・ 無 | AK36: 有 ・ 無 | AN36: 理事会承認 ・ 専決 ・ 無
AN37: 年 月 日
X38: 円 | AB38: 第 条 項 号 | AH38: 有 ・ 無 | AK38: 有 ・ 無 | AN38: 理事会承認 ・ 専決 ・ 無
AN39: 年 月 日
A41: ※ 「業者選定方法」の欄は、次の契約方法の中から該当する番号を記載してください。（契約締結時） （１）一般競争入札 （２）指名競争入札 （３）見積合せ（３社以上）による随意契約 （４）見積合せ（２社）による随意契約 （５）見積合せによらない特定の１社との随意契約 （６）その他

Sheet 会計「計算書類等提出確認表」
A1: 会計 計算書類等提出確認表
A2: 施設名 | B2: =IF(表紙!J7="","",表紙!J7)
A4: ・計算書類等と一緒に御提出ください。 ・該当する事由がなく、作成を省略している書類は提出不要です。
A9: 書類名 | C9: 様式※ | D9: 確認欄
A10: １ 計算書類（令和７年度決算分）
B11: (1)資金収支計算書 | C11: 第１号第４様式 | D11: 有・無
B12: (2)事業活動計算書 | C12: 第２号第４様式 | D12: 有・無
B13: (3)貸借対照表 | C13: 第３号第４様式 | D13: 有・無
B14: (4)計算書類に対する注記（拠点区分用） | C14: 別紙２ | D14: 有・無
A15: ２ 附属明細書(令和７年度決算分)
B16: (5)借入金明細書 | C16: 別紙３① | D16: 有・無
B17: (6)寄附金収益明細書 | C17: 別紙３② | D17: 有・無
B18: (7)補助金事業等収益明細書 | C18: 別紙３③ | D18: 有・無
B19: (8)事業区分間及び拠点区分間繰入金明細書 | C19: 別紙３④ | D19: 有・無
B20: (9)事業区分間及び拠点区分間貸付金（借入金）残高明細書 | C20: 別紙３⑤ | D20: 有・無
B21: (10)基本金明細書 | C21: 別紙３⑥ | D21: 有・無
B22: (11)国庫補助金等特別積立金明細書 | C22: 別紙３⑦ | D22: 有・無
B23: (12)基本財産及びその他の固定資産の明細書 | C23: 別紙３⑧ | D23: 有・無
B24: (13)引当金明細書 | C24: 別紙３⑨ | D24: 有・無
B25: (14)拠点区分資金収支明細書 | C25: 別紙３⑩ | D25: 有・無
B26: (15)拠点区分事業活動明細書 | C26: 別紙３⑪ | D26: 有・無
B27: (16)積立金・積立資産明細書 | C27: 別紙３⑫ | D27: 有・無
... B30: (19)固定資産管理台帳 | C30: - | D30: 有・無
A31: ３ その他（令和８年３月末日現在）
B32: (20)財産目録 | C32: 別紙４ | D32: 有・無
B33: (21)金融機関が発行した残高証明の写し | C33: - | D33: 有・無
A34: ※第１～３号：「社会福祉法人会計基準」（平成２８年３月３１日号外厚生労働省令第７９号）
A36: ※別紙１～４：「社会福祉法人会計基準の制定に伴う会計処理等に関する運用上の取扱いについて」（平成２８年３月３１日厚児発０３３１第１５号・社援発０３３１第３９号・老発０３３１第４５号 局長連名通知

Sheet 決算書自己点検シート
A2: 決算書（令和7年度分）自己点検シート（計算書類等の基本的な勘定科目残高と整合性の確認）
AA5: 施設名 | AG5: =IF([1]表紙!J5="","",[1]表紙!J5)
A10: １ 貸借対照表の借方と貸方の残高の整合性
B13: 帳票名 | L13: 勘定科目名 | Y13: 残高 単位（円） | AH13: 判定（○・差異）
B15: 貸借対照表 | L15: 資産の部合計 | AH15: =IF(Y15=Y17,"○",Y15-Y17) -> ○
L17: 負債及び純資産の部合計
A21: ２ 貸借対照表と資金収支計算書の支払資金の整合性
B24: 貸借対照表 | L24: (流動資産－流動負債)の額(注1) | Y24: =B33-(G33-L33-Y33-AD33-AK33) -> 0 | AH24: =IF(Y24=Y26,"○",Y24-Y26) -> ○
B26: 資金収支計算書 | L26: 当期末支払資金残高
B29: 【貸借対照表】（注１）
B31: 流動資産 | G31: 流動負債 | L31: 1年以内返済予定借入金(リース債務を含む) | Y31: 賞与引当金 | AD31: その他，資産勘定はマイナス入力
A37: ３ 貸借対照表と事業活動計算書の繰越活動増減差額の整合性
B40: 貸借対照表 | L40: 次期繰越活動増減差額 | AH40: =IF(Y40=Y42,"○",Y40-Y42) -> ○
B42: 事業活動計算書 | L42: 次期繰越活動増減差額
A46: ４ 貸借対照表（うち当期活動増減差額）と事業活動計算書の当期活動増減差額の整合性
B49: 貸借対照表 | L49: （うち当期活動増減差額） | AH49: =IF(Y49=Y51,"○",Y49-Y51) -> ○
B51: 事業活動計算書 | L51: 当期活動増減差額
A55: ５ 貸借対照表と財産目録の純資産の整合性（法人全体）
B58: 貸借対照表 | L58: 純資産の部合計(資産の部合計) | AH58: =IF(Y58=Y60,"○",Y58-Y60) -> ○
B60: 財産目録 | L60: 差引純資産(資産合計)
A64: ６ 貸借対照表と財産目録の基本財産の整合性(定款の基本財産に係る条項の記載のとおりに計上されているか)（法人全体）
B67: 貸借対照表 | L67: 固定資産の基本財産 | AH67: =IF(Y67=Y69,"○",Y67-Y69) -> ○
B69: 財産目録 | L69: 固定資産の基本財産合計
A73: ７ 貸借対照表と固定資産管理台帳の整合性
B76: 貸借対照表 | L76: 固定資産(基本財産及びその他の固定資産で管理台帳に計上しているもの)の合計額(注２) | Y76: =SUM(B85:AO86) -> 0 | AH76: =IF(Y76=Y78,"○",Y76-Y78) -> ○
B78: 固定資産台帳 | L78: 期末帳簿価額
B81: 【貸借対照表】（注２）
B83: 固定資産の基本財産 | F83: 基本財産以外の土地 | J83: 基本財産以外の建物 | N83: 構築物 | R83: 機械及び装置 | V83: 車輌運搬具 | Z83: 器具及び備品 | AD83: 権利 | AH83: ソフトウェア | AL83: その他（固定資産）
B88: 貸借対照表 | L88: 国庫補助金等特別積立金 | AH88: =IF(Y88=Y90,"○",Y88-Y90) -> ○
B90: 固定資産台帳 | L90: 期末帳簿価額(うち国庫補助金等の額)の合計
A94: ８ 事業活動計算書と固定資産管理台帳の減価償却費及び国庫補助金等積立金取崩額の整合性
B97: 事業活動計算書 | L97: 減価償却費 | AH97: =IF(Y97=Y99,"○",Y97-Y99) -> ○
B99: 固定資産管理台帳 | L99: 当期減価償却額の合計
B102: 事業活動計算書 | L102: 国庫補助金等特別積立金取崩額 | AH102: =IF(Y102=Y104,"○",Y102-Y104) -> ○
B104: 固定資産管理台帳 | L104: 当期減価償却額(うち国庫補助金等の額)の合計
A108: ９ 前年度事業活動計算書の次期繰越活動差額と事業活動計算書（令和８年３月末決算）前期繰越活動差額の整合性
B111: 事業活動計算書（前年度） | L111: 次期繰越活動増減差額 | AH111: =IF(Y111=Y113,"○",Y111-Y113) -> ○
B113: 事業活動計算書（令和８年３月末決算） | L113: 前期繰越活動増減差額
A117: １０ 前年度貸借対照表の当期末の額と貸借対照表（令和８年３月末決算）の前期末の額の整合性
B120: 貸借対照表（前年度）当期末の額 | L120: 流動資産 | AH120: =IF(Y120=Y122,"○",Y120-Y122) -> ○
...
